BEGIN:VCALENDAR
VERSION:2.0
PRODID:-//Keokuk County Economic Development - ECPv6.15.20//NONSGML v1.0//EN
CALSCALE:GREGORIAN
METHOD:PUBLISH
X-WR-CALNAME:Keokuk County Economic Development
X-ORIGINAL-URL:https://kcediowa.org
X-WR-CALDESC:Events for Keokuk County Economic Development
REFRESH-INTERVAL;VALUE=DURATION:PT1H
X-Robots-Tag:noindex
X-PUBLISHED-TTL:PT1H
BEGIN:VTIMEZONE
TZID:UTC
BEGIN:STANDARD
TZOFFSETFROM:+0000
TZOFFSETTO:+0000
TZNAME:UTC
DTSTART:20240101T000000
END:STANDARD
END:VTIMEZONE
BEGIN:VEVENT
DTSTART;TZID=UTC:20250208T163000
DTEND;TZID=UTC:20250208T200000
DTSTAMP:20260421T024018
CREATED:20241227T234046Z
LAST-MODIFIED:20250107T193914Z
UID:10000058-1739032200-1739044800@kcediowa.org
SUMMARY:Master's Pitch Tournament - Sigourney Golf and Country Club
DESCRIPTION:Sigourney Golf & Country Club & Grant Ranch Grub & Pub are teaming up to bring you Master’s Pitch Tournament.8 tournamentsTop 6 scores will count towards the Master’sTop 24 people will advance to Master’s Pitch Tournament on Sat Mar. 15th at the Country ClubBonus $$$ for the winnersThe scores are kept individually\, not by partners\, so don’t worry if your “normal” partner can’t make it to a tournament\, you can still add to your score to advance.Doors open for registration at 4:30 on the Saturdays at the country club\, and play begins at 5:00. Play begins at 1:00 for the Sunday games at Grant Ranch. \n 
URL:https://kcediowa.org/event/masters-pitch-tournament-sigourney-golf-and-country-club/2025-02-08/
LOCATION:Sigourney Golf and Country Club Clubhouse\, 1103 200th Ave\, Sigourney\, Iowa\, 52591
ATTACH;FMTTYPE=image/jpeg:https://kcediowa.org/wp-content/uploads/2024/12/Pitch.jpg
END:VEVENT
END:VCALENDAR