BEGIN:VCALENDAR
VERSION:2.0
PRODID:-//Keokuk County Economic Development - ECPv6.15.20//NONSGML v1.0//EN
CALSCALE:GREGORIAN
METHOD:PUBLISH
X-WR-CALNAME:Keokuk County Economic Development
X-ORIGINAL-URL:https://kcediowa.org
X-WR-CALDESC:Events for Keokuk County Economic Development
REFRESH-INTERVAL;VALUE=DURATION:PT1H
X-Robots-Tag:noindex
X-PUBLISHED-TTL:PT1H
BEGIN:VTIMEZONE
TZID:America/Chicago
BEGIN:DAYLIGHT
TZOFFSETFROM:-0600
TZOFFSETTO:-0500
TZNAME:CDT
DTSTART:20240310T080000
END:DAYLIGHT
BEGIN:STANDARD
TZOFFSETFROM:-0500
TZOFFSETTO:-0600
TZNAME:CST
DTSTART:20241103T070000
END:STANDARD
BEGIN:DAYLIGHT
TZOFFSETFROM:-0600
TZOFFSETTO:-0500
TZNAME:CDT
DTSTART:20250309T080000
END:DAYLIGHT
BEGIN:STANDARD
TZOFFSETFROM:-0500
TZOFFSETTO:-0600
TZNAME:CST
DTSTART:20251102T070000
END:STANDARD
BEGIN:DAYLIGHT
TZOFFSETFROM:-0600
TZOFFSETTO:-0500
TZNAME:CDT
DTSTART:20260308T080000
END:DAYLIGHT
BEGIN:STANDARD
TZOFFSETFROM:-0500
TZOFFSETTO:-0600
TZNAME:CST
DTSTART:20261101T070000
END:STANDARD
END:VTIMEZONE
BEGIN:VEVENT
DTSTART;TZID=America/Chicago:20251019T070000
DTEND;TZID=America/Chicago:20251019T130000
DTSTAMP:20260416T232826
CREATED:20251014T185611Z
LAST-MODIFIED:20251014T185611Z
UID:10000528-1760857200-1760878800@kcediowa.org
SUMMARY:Annual Breakfast - Sigourney Fire-Rescue-EMS
DESCRIPTION:
URL:https://kcediowa.org/event/annual-breakfast-sigourney-fire-rescue-ems/
LOCATION:Sigourney Fire Department\, 219 S Main\, Sigourney\, Iowa\, 52591
ATTACH;FMTTYPE=image/jpeg:https://kcediowa.org/wp-content/uploads/2025/10/Sig-FD-Breakfast.jpg
END:VEVENT
BEGIN:VEVENT
DTSTART;TZID=America/Chicago:20251019T130000
DTEND;TZID=America/Chicago:20251019T160000
DTSTAMP:20260416T232826
CREATED:20251017T182114Z
LAST-MODIFIED:20251017T182114Z
UID:10000557-1760878800-1760889600@kcediowa.org
SUMMARY:Open House for Keokuk County Historical Society and Museum
DESCRIPTION:OPEN HOUSE– Sunday\, October 19th\, 1-4 at the Keokuk County Historical Society in Sigourney\, Iowa\n\n\nProgram: What Cheer Pottery by Doran & Toni Hull
URL:https://kcediowa.org/event/open-house-for-keokuk-county-historical-society-and-museum/
LOCATION:Keokuk County Historical Society and Museum\, 402 E Elm St\, Sigourney\, Iowa\, 52591
ATTACH;FMTTYPE=image/jpeg:https://kcediowa.org/wp-content/uploads/2025/10/535418314_668572609605188_5144922197173285041_n.jpg
END:VEVENT
END:VCALENDAR