BEGIN:VCALENDAR
VERSION:2.0
PRODID:-//Keokuk County Economic Development - ECPv6.15.20//NONSGML v1.0//EN
CALSCALE:GREGORIAN
METHOD:PUBLISH
X-ORIGINAL-URL:https://kcediowa.org
X-WR-CALDESC:Events for Keokuk County Economic Development
REFRESH-INTERVAL;VALUE=DURATION:PT1H
X-Robots-Tag:noindex
X-PUBLISHED-TTL:PT1H
BEGIN:VTIMEZONE
TZID:America/Chicago
BEGIN:DAYLIGHT
TZOFFSETFROM:-0600
TZOFFSETTO:-0500
TZNAME:CDT
DTSTART:20240310T080000
END:DAYLIGHT
BEGIN:STANDARD
TZOFFSETFROM:-0500
TZOFFSETTO:-0600
TZNAME:CST
DTSTART:20241103T070000
END:STANDARD
BEGIN:DAYLIGHT
TZOFFSETFROM:-0600
TZOFFSETTO:-0500
TZNAME:CDT
DTSTART:20250309T080000
END:DAYLIGHT
BEGIN:STANDARD
TZOFFSETFROM:-0500
TZOFFSETTO:-0600
TZNAME:CST
DTSTART:20251102T070000
END:STANDARD
BEGIN:DAYLIGHT
TZOFFSETFROM:-0600
TZOFFSETTO:-0500
TZNAME:CDT
DTSTART:20260308T080000
END:DAYLIGHT
BEGIN:STANDARD
TZOFFSETFROM:-0500
TZOFFSETTO:-0600
TZNAME:CST
DTSTART:20261101T070000
END:STANDARD
END:VTIMEZONE
BEGIN:VEVENT
DTSTART;TZID=America/Chicago:20251106T163000
DTEND;TZID=America/Chicago:20251106T183000
DTSTAMP:20260419T124516
CREATED:20251014T195228Z
LAST-MODIFIED:20251014T195228Z
UID:10000539-1762446600-1762453800@kcediowa.org
SUMMARY:Fall Harvest Dinner - Delta
DESCRIPTION:Fall Harvest Dinner is November 6th starting at 4:30pm until 6:30pm.\nJoin us for pulled pork\, cheesy potatoes\, baked beans\, and dessert!\nFree will donations to go towards improvements and upkeep of the Delta School House. \nWant to take it to go? No problem\, we supply takeout containers just for that purpose. \nDixie will be taking and delivering to go meals as well.
URL:https://kcediowa.org/event/fall-harvest-dinner-delta/
LOCATION:Iowa
ATTACH;FMTTYPE=image/jpeg:https://kcediowa.org/wp-content/uploads/2025/10/Delta-Harves-Dinner-Fundraiser.jpg
END:VEVENT
END:VCALENDAR