BEGIN:VCALENDAR
VERSION:2.0
PRODID:-//Keokuk County Economic Development - ECPv6.15.20//NONSGML v1.0//EN
CALSCALE:GREGORIAN
METHOD:PUBLISH
X-WR-CALNAME:Keokuk County Economic Development
X-ORIGINAL-URL:https://kcediowa.org
X-WR-CALDESC:Events for Keokuk County Economic Development
REFRESH-INTERVAL;VALUE=DURATION:PT1H
X-Robots-Tag:noindex
X-PUBLISHED-TTL:PT1H
BEGIN:VTIMEZONE
TZID:America/Chicago
BEGIN:DAYLIGHT
TZOFFSETFROM:-0600
TZOFFSETTO:-0500
TZNAME:CDT
DTSTART:20240310T080000
END:DAYLIGHT
BEGIN:STANDARD
TZOFFSETFROM:-0500
TZOFFSETTO:-0600
TZNAME:CST
DTSTART:20241103T070000
END:STANDARD
BEGIN:DAYLIGHT
TZOFFSETFROM:-0600
TZOFFSETTO:-0500
TZNAME:CDT
DTSTART:20250309T080000
END:DAYLIGHT
BEGIN:STANDARD
TZOFFSETFROM:-0500
TZOFFSETTO:-0600
TZNAME:CST
DTSTART:20251102T070000
END:STANDARD
BEGIN:DAYLIGHT
TZOFFSETFROM:-0600
TZOFFSETTO:-0500
TZNAME:CDT
DTSTART:20260308T080000
END:DAYLIGHT
BEGIN:STANDARD
TZOFFSETFROM:-0500
TZOFFSETTO:-0600
TZNAME:CST
DTSTART:20261101T070000
END:STANDARD
END:VTIMEZONE
BEGIN:VEVENT
DTSTART;TZID=America/Chicago:20251108T110000
DTEND;TZID=America/Chicago:20251108T150000
DTSTAMP:20260419T124542
CREATED:20251017T145152Z
LAST-MODIFIED:20251017T145152Z
UID:10000555-1762599600-1762614000@kcediowa.org
SUMMARY:Happy Acres Farm Open House
DESCRIPTION:Happy Acres Farm Open House \nSaturday\, Nov. 8 \n11 a.m. – 3 p.m. \n 
URL:https://kcediowa.org/event/happy-acres-farm-open-house/
LOCATION:Happy Acres Farm\, 413 W. North St.\, Richland\, Iowa\, 52591
ATTACH;FMTTYPE=image/jpeg:https://kcediowa.org/wp-content/uploads/2025/10/560733468_122154835052763411_8681430547405423524_n.jpg
END:VEVENT
BEGIN:VEVENT
DTSTART;TZID=America/Chicago:20251108T180000
DTEND;TZID=America/Chicago:20251108T200000
DTSTAMP:20260419T124542
CREATED:20251021T190526Z
LAST-MODIFIED:20251021T190526Z
UID:10000558-1762624800-1762632000@kcediowa.org
SUMMARY:Tri- County Dollars for Scholars Fall Fling
DESCRIPTION:Fall Fling includes a free will donation dinner: beef brisket\, pork\, scalloped potatoes\, vegetables\, salads\, and desserts.\nWe will have a Silent Auction filled with great items\, live baked goods auction\, tickets for our gift card boards and door prizes.\nEvery $$ raised goes to our Tri County graduates!\nHope to see you there!
URL:https://kcediowa.org/event/tri-county-dollars-for-scholars-fall-fling/
LOCATION:Strong Source Ag\, 18664 Hwy 22\, Keswick\, Iowa\, 50136
ATTACH;FMTTYPE=image/jpeg:https://kcediowa.org/wp-content/uploads/2025/10/tc-fall-fling.jpg
END:VEVENT
BEGIN:VEVENT
DTSTART;TZID=America/Chicago:20251108T190000
DTEND;TZID=America/Chicago:20251108T210000
DTSTAMP:20260419T124542
CREATED:20250902T143617Z
LAST-MODIFIED:20250902T143617Z
UID:10000510-1762628400-1762635600@kcediowa.org
SUMMARY:Awed Man Out at What Cheer Opera House
DESCRIPTION:“Awed Man Out” is a very fun collective of seasoned Iowan musicians who joined forces years ago. They draw their material from the years ’65 – ’75\, but admit they have a hard time staying put. From Buffet to Badfinger to the Beatles\, from Dylan to Diamond to 3 Dog Night\, from Steve Miller to Merle Haggard\, you’ll hear it! (And silly jokes\, too…) These are Linn County guys – except cool Zach the Rhythm Master from Monticello – his wife Kim dubbed him the “odd man out\,” and accidentally named the band. Guitarist and vocalist Scot Warder is the glue that holds it all together. “If we’re having fun\,” says Warder\, “the folks who come to see us have fun too.” Local guitar legend Dale Crosby (who sets the whole groove and trades guitar licks with Scot) has been part of Cedar Rapids’ music scene for many years. Phil – the Eccentric Professor – tickles the ivories while Jazzy John’s bass chases down the stray notes. Come out\, hear some good music parents and kids will feel right at home! \nShow: Saturday\, November 8\, 7:00-9:00pm\, doors open 6:00pm\nTickets: $20(adult)\, $10.00(18 and under)\, general admission\, can purchase at the door the day of the event or online at http://www.whatcheeroperahouse.org\nPopcorn\, pop\, and water will be served during the show\nGrant Ranch Grub & Pub will be serving food and drinks at the Opera House from 6:00-9:00pm
URL:https://kcediowa.org/event/awed-man-out-at-what-cheer-opera-house/
LOCATION:What Cheer Opera House\, 102 S Barnes St\, What Cheer\, Iowa\, 50268
ATTACH;FMTTYPE=image/avif:https://kcediowa.org/wp-content/uploads/2025/09/awed-man-out-wcoh.avif
END:VEVENT
BEGIN:VEVENT
DTSTART;TZID=America/Chicago:20251108T200000
DTEND;TZID=America/Chicago:20251108T220000
DTSTAMP:20260419T124542
CREATED:20251014T195743Z
LAST-MODIFIED:20251014T195743Z
UID:10000542-1762632000-1762639200@kcediowa.org
SUMMARY:Music Bingo
DESCRIPTION:Music Bingo at Bernies Bar and Grill for Pekin After Prom
URL:https://kcediowa.org/event/music-bingo/
LOCATION:Bernies Bar and Grill\, 108 N Oak St.\, Richland\, Iowa\, 52585
ATTACH;FMTTYPE=image/jpeg:https://kcediowa.org/wp-content/uploads/2025/10/Music-Bingo.jpg
END:VEVENT
END:VCALENDAR