BEGIN:VCALENDAR
VERSION:2.0
PRODID:-//Keokuk County Economic Development - ECPv6.15.20//NONSGML v1.0//EN
CALSCALE:GREGORIAN
METHOD:PUBLISH
X-WR-CALNAME:Keokuk County Economic Development
X-ORIGINAL-URL:https://kcediowa.org
X-WR-CALDESC:Events for Keokuk County Economic Development
REFRESH-INTERVAL;VALUE=DURATION:PT1H
X-Robots-Tag:noindex
X-PUBLISHED-TTL:PT1H
BEGIN:VTIMEZONE
TZID:America/Chicago
BEGIN:DAYLIGHT
TZOFFSETFROM:-0600
TZOFFSETTO:-0500
TZNAME:CDT
DTSTART:20250309T080000
END:DAYLIGHT
BEGIN:STANDARD
TZOFFSETFROM:-0500
TZOFFSETTO:-0600
TZNAME:CST
DTSTART:20251102T070000
END:STANDARD
BEGIN:DAYLIGHT
TZOFFSETFROM:-0600
TZOFFSETTO:-0500
TZNAME:CDT
DTSTART:20260308T080000
END:DAYLIGHT
BEGIN:STANDARD
TZOFFSETFROM:-0500
TZOFFSETTO:-0600
TZNAME:CST
DTSTART:20261101T070000
END:STANDARD
BEGIN:DAYLIGHT
TZOFFSETFROM:-0600
TZOFFSETTO:-0500
TZNAME:CDT
DTSTART:20270314T080000
END:DAYLIGHT
BEGIN:STANDARD
TZOFFSETFROM:-0500
TZOFFSETTO:-0600
TZNAME:CST
DTSTART:20271107T070000
END:STANDARD
END:VTIMEZONE
BEGIN:VEVENT
DTSTART;TZID=America/Chicago:20260424T080000
DTEND;TZID=America/Chicago:20260425T170000
DTSTAMP:20260422T053640
CREATED:20251124T172116Z
LAST-MODIFIED:20260120T201612Z
UID:10000568-1777017600-1777136400@kcediowa.org
SUMMARY:Rural Road Trip
DESCRIPTION:Celebrate small shops with huge hearts during a self-guided road trip. \nFollow on Facebook at – https://www.facebook.com/ruralroadtrip
URL:https://kcediowa.org/event/rural-road-trip/2026-04-24/
LOCATION:Iowa
CATEGORIES:Food & Markets
ATTACH;FMTTYPE=image/jpeg:https://kcediowa.org/wp-content/uploads/2025/11/Rural-Road-Trip-2026.jpg
END:VEVENT
BEGIN:VEVENT
DTSTART;TZID=America/Chicago:20260424T103000
DTEND;TZID=America/Chicago:20260424T113000
DTSTAMP:20260422T053640
CREATED:20260313T163410Z
LAST-MODIFIED:20260313T163410Z
UID:10001141-1777026600-1777030200@kcediowa.org
SUMMARY:Community Education Series - How to Prepare Financially for the Future
DESCRIPTION:More details to come. \n 
URL:https://kcediowa.org/event/community-education-series-how-to-prepare-financially-for-the-future/
LOCATION:Hospice of Washington County\, 948 E 11th St.\, Washington\, Iowa
CATEGORIES:Education & Workshops
END:VEVENT
BEGIN:VEVENT
DTSTART;TZID=America/Chicago:20260425T180000
DTEND;TZID=America/Chicago:20260425T190000
DTSTAMP:20260422T053640
CREATED:20260129T175334Z
LAST-MODIFIED:20260129T175334Z
UID:10001119-1777140000-1777143600@kcediowa.org
SUMMARY:Winter Bingo  - Hedrick
DESCRIPTION:21 rounds of BINGO \nRounds 1-9 and 11-20 will be $.50 per card or 3 for $1 \n50% of pot payout per game \nRound 10 – Blackout $1 per card \nRound 21 – picture frame – limited number of balls called \n$1 per card jackpot is 100% of 21st games take and builds each night until won. \nIf not won on any night\, jackpot will be added to the next night up to $600! Guaranteed payout on April 25\, 2026\, if not won sooner. \n  \nConcessions available! $1 each: soup\, hot dogs\, chips\, pop\, water\, candy bars (selection may vary)
URL:https://kcediowa.org/event/winter-bingo-hedrick/2026-04-25/
LOCATION:Hedrick Community Center\, 109 N. Main St\, Hedrick\, Iowa
CATEGORIES:Family & Kids
ATTACH;FMTTYPE=application/pdf:https://kcediowa.org/wp-content/uploads/2026/01/Hedrick-bingo-1.pdf
END:VEVENT
BEGIN:VEVENT
DTSTART;TZID=America/Chicago:20260427T100000
DTEND;TZID=America/Chicago:20260504T130000
DTSTAMP:20260422T053640
CREATED:20260407T161118Z
LAST-MODIFIED:20260407T161118Z
UID:10001154-1777284000-1777899600@kcediowa.org
SUMMARY:Arnel's Garden Auction
DESCRIPTION:April 27th – May 4th @ 1:00 PMOn FACEBOOK at https://www.facebook.com/share/1BQzM7AGrw/\nIn memory of Arnel\, we’ll be hosting a plant auction to celebrate her love for plants. The event will feature a variety of plants\, including some of Arnel’s cherished spider plants. Join us as we honor her memory. Your participation will mean a lot as we come together to remember her & celebrate her passion for plants.
URL:https://kcediowa.org/event/arnels-garden-auction/
LOCATION:Iowa
CATEGORIES:Community & Civic 
ATTACH;FMTTYPE=image/png:https://kcediowa.org/wp-content/uploads/2026/04/Arnels-Garden-Auction-US-Letter-1.png
END:VEVENT
END:VCALENDAR