BEGIN:VCALENDAR
VERSION:2.0
PRODID:-//Keokuk County Economic Development - ECPv6.15.20//NONSGML v1.0//EN
CALSCALE:GREGORIAN
METHOD:PUBLISH
X-ORIGINAL-URL:https://kcediowa.org
X-WR-CALDESC:Events for Keokuk County Economic Development
REFRESH-INTERVAL;VALUE=DURATION:PT1H
X-Robots-Tag:noindex
X-PUBLISHED-TTL:PT1H
BEGIN:VTIMEZONE
TZID:America/Chicago
BEGIN:DAYLIGHT
TZOFFSETFROM:-0600
TZOFFSETTO:-0500
TZNAME:CDT
DTSTART:20240310T080000
END:DAYLIGHT
BEGIN:STANDARD
TZOFFSETFROM:-0500
TZOFFSETTO:-0600
TZNAME:CST
DTSTART:20241103T070000
END:STANDARD
BEGIN:DAYLIGHT
TZOFFSETFROM:-0600
TZOFFSETTO:-0500
TZNAME:CDT
DTSTART:20250309T080000
END:DAYLIGHT
BEGIN:STANDARD
TZOFFSETFROM:-0500
TZOFFSETTO:-0600
TZNAME:CST
DTSTART:20251102T070000
END:STANDARD
BEGIN:DAYLIGHT
TZOFFSETFROM:-0600
TZOFFSETTO:-0500
TZNAME:CDT
DTSTART:20260308T080000
END:DAYLIGHT
BEGIN:STANDARD
TZOFFSETFROM:-0500
TZOFFSETTO:-0600
TZNAME:CST
DTSTART:20261101T070000
END:STANDARD
END:VTIMEZONE
BEGIN:VEVENT
DTSTART;TZID=America/Chicago:20251026T060000
DTEND;TZID=America/Chicago:20251026T120000
DTSTAMP:20260419T142131
CREATED:20251014T190011Z
LAST-MODIFIED:20251014T190011Z
UID:10000529-1761458400-1761480000@kcediowa.org
SUMMARY:Breakfast - Keota Fire Dept.
DESCRIPTION:Your local Keota Fire Department is made up entirely of volunteers!\n\n\nThat’s right — members of our own community give their personal time\, step away from their homes and families\, complete certifications\, attend trainings\, and respond to emergency calls in the middle of the night — all to keep Keota safe.\n\n\nLet’s show our appreciation and support these incredible volunteers!\n\n\nSave the Date for the Keota Fire Department Breakfast\nSunday\, October 26 | 6:00 AM – 12:00 PM\n Dine in or carry out\n Free will donation\n\n\n Pancakes •  Scrambled Eggs •  Sliders •  Whole Hog Sausage\n\n\n Gun Raffle – Tickets available until 11:30 AM | Drawing at Noon\n Silent Auction – Open all morning until Noon\n\n\nCome hungry and help us say THANK YOU to Keota’s first responders!\n\n 
URL:https://kcediowa.org/event/breakfast-keota-fire-dept/
LOCATION:Keota Fire Department\, 309 E Broadway\, Keota\, Iowa\, 52248
ATTACH;FMTTYPE=image/jpeg:https://kcediowa.org/wp-content/uploads/2025/10/Keota-FD-breakfast.jpg
END:VEVENT
BEGIN:VEVENT
DTSTART;TZID=America/Chicago:20251026T123000
DTEND;TZID=America/Chicago:20251026T133000
DTSTAMP:20260419T142131
CREATED:20251017T145832Z
LAST-MODIFIED:20251017T145832Z
UID:10000556-1761481800-1761485400@kcediowa.org
SUMMARY:Trunk or Treat - What Cheer
DESCRIPTION:Trunk or Treat hosted by Free Grace Church\nSunday\, October 26\, 2025\n12:30 pm (following service)\n107 E Broadway Street What Cheer\, IA 50268\nJoin us for a fun\, FREE\, fall celebration with a Trunk or Treat for kiddos\, hot cider\, hot cocoa\, food\, costume contest\, games\, candy\, prizes\, bobbing for apples\, more!
URL:https://kcediowa.org/event/trunk-or-treat-what-cheer/
LOCATION:Free Grace Church\, 107 E Broadway\, What Cheer\, Iowa\, 50268
ATTACH;FMTTYPE=image/jpeg:https://kcediowa.org/wp-content/uploads/2025/10/553383746_749179231453316_7539708400204586744_n.jpg
END:VEVENT
BEGIN:VEVENT
DTSTART;TZID=America/Chicago:20251028T163000
DTEND;TZID=America/Chicago:20251028T183000
DTSTAMP:20260419T142131
CREATED:20251014T191235Z
LAST-MODIFIED:20251014T191235Z
UID:10000533-1761669000-1761676200@kcediowa.org
SUMMARY:Drive Thru Only Annual Turkey Supper
DESCRIPTION: 
URL:https://kcediowa.org/event/drive-thru-only-annual-turkey-supper/
LOCATION:Prairie View Church\, 27131 - Hwy 78\, Ollie\, Iowa
ATTACH;FMTTYPE=image/jpeg:https://kcediowa.org/wp-content/uploads/2025/10/Turkey-Supper-Richland.jpg
END:VEVENT
BEGIN:VEVENT
DTSTART;TZID=America/Chicago:20251030T153000
DTEND;TZID=America/Chicago:20251030T170000
DTSTAMP:20260419T142131
CREATED:20251014T195104Z
LAST-MODIFIED:20251028T141605Z
UID:10000538-1761838200-1761843600@kcediowa.org
SUMMARY:Trick or Treat Around the Square - Sigourney
DESCRIPTION:Trick or Treat around the square Thursday\, Oct. 30th\,  3:30-5 p.m. \n 
URL:https://kcediowa.org/event/trick-or-treat-around-the-square-sigourney/
LOCATION:Sigourney Town Square\, Sigourney\, 52591
END:VEVENT
BEGIN:VEVENT
DTSTART;TZID=America/Chicago:20251030T163000
DTEND;TZID=America/Chicago:20251030T173000
DTSTAMP:20260419T142131
CREATED:20251014T190455Z
LAST-MODIFIED:20251014T190503Z
UID:10000531-1761841800-1761845400@kcediowa.org
SUMMARY:Spooktacular Halloween Bash - Wilson Memorial Library
DESCRIPTION: 
URL:https://kcediowa.org/event/spooktacular-halloween-bash-wilson-memorial-library/
LOCATION:Wilson Memorial Library\, 109 E Washington\, Keota\, Iowa
ATTACH;FMTTYPE=image/jpeg:https://kcediowa.org/wp-content/uploads/2025/10/Wilson-Library-Halloween.jpg
END:VEVENT
BEGIN:VEVENT
DTSTART;TZID=America/Chicago:20251030T180000
DTEND;TZID=America/Chicago:20251030T203000
DTSTAMP:20260419T142131
CREATED:20251014T194346Z
LAST-MODIFIED:20251014T194346Z
UID:10000534-1761847200-1761856200@kcediowa.org
SUMMARY:Haunted KeWash Trail - Keota
DESCRIPTION:Join in on the fun after the Keota business & residential trick or treating!\nThis event is for children of all ages 0-100!\nGlow bracelet and refreshments provided-$0 entry for kiddie area (thanks to Greiner Pump & Well!)$5 (was $10!) for haunted trail\nThis is a fundraiser for the new Keota daycare\, put on by the Keokuk County Childcare Network.\nA big thanks for 4Hers from. Dutch Creek Fliers and 76 Progressives for their help.
URL:https://kcediowa.org/event/haunted-kewash-trail-keota/
LOCATION:KeWash Trail\, Keota\, Iowa\, 52591
ATTACH;FMTTYPE=image/jpeg:https://kcediowa.org/wp-content/uploads/2025/10/KCCN-Haunted-Trail.jpg
END:VEVENT
BEGIN:VEVENT
DTSTART;TZID=America/Chicago:20251031T160000
DTEND;TZID=America/Chicago:20251031T173000
DTSTAMP:20260419T142131
CREATED:20251014T195626Z
LAST-MODIFIED:20251014T195626Z
UID:10000541-1761926400-1761931800@kcediowa.org
SUMMARY:Trunk or Treat and Parade - Hedrick
DESCRIPTION:
URL:https://kcediowa.org/event/trunk-or-treat-and-parade-hedrick/
LOCATION:Iowa
ATTACH;FMTTYPE=image/jpeg:https://kcediowa.org/wp-content/uploads/2025/10/Trick-or-treat-hedrick.jpg
END:VEVENT
BEGIN:VEVENT
DTSTART;TZID=America/Chicago:20251031T170000
DTEND;TZID=America/Chicago:20251031T190000
DTSTAMP:20260419T142131
CREATED:20251014T195521Z
LAST-MODIFIED:20251014T195521Z
UID:10000540-1761930000-1761937200@kcediowa.org
SUMMARY:Soup Supper - Richland Fire Rescue
DESCRIPTION:
URL:https://kcediowa.org/event/soup-supper-richland-fire-rescue/
LOCATION:Richland Fire Station\, 109 N Richland St\, Richland\, Iowa\, 52585
ATTACH;FMTTYPE=image/jpeg:https://kcediowa.org/wp-content/uploads/2025/10/soup-supper-richland.jpg
END:VEVENT
BEGIN:VEVENT
DTSTART;TZID=America/Chicago:20251031T200000
DTEND;TZID=America/Chicago:20251031T233000
DTSTAMP:20260419T142131
CREATED:20251017T144153Z
LAST-MODIFIED:20251017T144211Z
UID:10000554-1761940800-1761953400@kcediowa.org
SUMMARY:Haunted House
DESCRIPTION:Delta Fire and Rescue presents Haunted House \nEvery Friday and Saturday in October \n8 pm – 12 am \nDelta Fire Station
URL:https://kcediowa.org/event/6355/2025-10-31/
LOCATION:Delta Fire Dept.\, 103 N 2nd St.\, Delta\, Iowa\, 52550
ATTACH;FMTTYPE=image/jpeg:https://kcediowa.org/wp-content/uploads/2025/10/556357251_802734512704484_8539863563264048410_n.jpg
END:VEVENT
BEGIN:VEVENT
DTSTART;TZID=America/Chicago:20251101T160000
DTEND;TZID=America/Chicago:20251101T190000
DTSTAMP:20260419T142131
CREATED:20251014T190256Z
LAST-MODIFIED:20251014T190256Z
UID:10000530-1762012800-1762023600@kcediowa.org
SUMMARY:Annual Pork Roast - North Keokuk County Fire Dept.
DESCRIPTION: 
URL:https://kcediowa.org/event/annual-pork-roast-north-keokuk-county-fire-dept/
LOCATION:North Keokuk County Fire Dept.\, 401 Broadway St\, South English\, Iowa\, 52335
ATTACH;FMTTYPE=image/jpeg:https://kcediowa.org/wp-content/uploads/2025/10/NK-Fire-Pork-Roast.jpg
END:VEVENT
BEGIN:VEVENT
DTSTART;TZID=America/Chicago:20251101T170000
DTEND;TZID=America/Chicago:20251101T190000
DTSTAMP:20260419T142131
CREATED:20251017T142352Z
LAST-MODIFIED:20251017T142352Z
UID:10000544-1762016400-1762023600@kcediowa.org
SUMMARY:Black Light Bingo
DESCRIPTION:Black Light Bingo sponsored by Stone Cottage Care Center
URL:https://kcediowa.org/event/black-light-bingo/
LOCATION:Sigourney Senior Center\, 214 S Main St.\, Sigourney\, Iowa\, 52591
ATTACH;FMTTYPE=image/jpeg:https://kcediowa.org/wp-content/uploads/2025/10/557738787_1300095615460641_6147621238146705444_n.jpg
END:VEVENT
BEGIN:VEVENT
DTSTART;TZID=America/Chicago:20251101T170000
DTEND;TZID=America/Chicago:20251102T010000
DTSTAMP:20260419T142131
CREATED:20251014T190749Z
LAST-MODIFIED:20251014T190749Z
UID:10000532-1762016400-1762045200@kcediowa.org
SUMMARY:After Halloween Party at Bernies
DESCRIPTION: 
URL:https://kcediowa.org/event/after-halloween-party-at-bernies/
LOCATION:Bernies Bar and Grill\, 108 N Oak St.\, Richland\, Iowa\, 52585
ATTACH;FMTTYPE=image/jpeg:https://kcediowa.org/wp-content/uploads/2025/10/Bernies-halloween.jpg
END:VEVENT
BEGIN:VEVENT
DTSTART;TZID=America/Chicago:20251101T180000
DTEND;TZID=America/Chicago:20251101T200000
DTSTAMP:20260419T142131
CREATED:20251014T194700Z
LAST-MODIFIED:20251014T194700Z
UID:10000536-1762020000-1762027200@kcediowa.org
SUMMARY:Movie Night - What Cheer Fire Dept.
DESCRIPTION:Bring the family for our free Movie Night on November 1 (6pm) featuring Casper — popcorn and drinks provided!
URL:https://kcediowa.org/event/movie-night-what-cheer-fire-dept/
LOCATION:What Cheer Fire Dept.\, 414 S Barnes\, What Cheer\, Iowa\, 50268
ATTACH;FMTTYPE=image/jpeg:https://kcediowa.org/wp-content/uploads/2025/10/WC-FD-movie-night.jpg
END:VEVENT
END:VCALENDAR