BEGIN:VCALENDAR
VERSION:2.0
PRODID:-//Keokuk County Economic Development - ECPv6.15.20//NONSGML v1.0//EN
CALSCALE:GREGORIAN
METHOD:PUBLISH
X-WR-CALNAME:Keokuk County Economic Development
X-ORIGINAL-URL:https://kcediowa.org
X-WR-CALDESC:Events for Keokuk County Economic Development
REFRESH-INTERVAL;VALUE=DURATION:PT1H
X-Robots-Tag:noindex
X-PUBLISHED-TTL:PT1H
BEGIN:VTIMEZONE
TZID:America/Chicago
BEGIN:DAYLIGHT
TZOFFSETFROM:-0600
TZOFFSETTO:-0500
TZNAME:CDT
DTSTART:20240310T080000
END:DAYLIGHT
BEGIN:STANDARD
TZOFFSETFROM:-0500
TZOFFSETTO:-0600
TZNAME:CST
DTSTART:20241103T070000
END:STANDARD
BEGIN:DAYLIGHT
TZOFFSETFROM:-0600
TZOFFSETTO:-0500
TZNAME:CDT
DTSTART:20250309T080000
END:DAYLIGHT
BEGIN:STANDARD
TZOFFSETFROM:-0500
TZOFFSETTO:-0600
TZNAME:CST
DTSTART:20251102T070000
END:STANDARD
BEGIN:DAYLIGHT
TZOFFSETFROM:-0600
TZOFFSETTO:-0500
TZNAME:CDT
DTSTART:20260308T080000
END:DAYLIGHT
BEGIN:STANDARD
TZOFFSETFROM:-0500
TZOFFSETTO:-0600
TZNAME:CST
DTSTART:20261101T070000
END:STANDARD
END:VTIMEZONE
BEGIN:VEVENT
DTSTART;TZID=America/Chicago:20251214T130000
DTEND;TZID=America/Chicago:20251214T150000
DTSTAMP:20260419T193303
CREATED:20251028T190853Z
LAST-MODIFIED:20251028T190853Z
UID:10000562-1765717200-1765724400@kcediowa.org
SUMMARY:Hometown Holiday Magic at Holland-Coble Funeral Home
DESCRIPTION:Holland-Coble Funeral Home excitedly invites you to join us for a memorable day of Christmas fun on Sunday\, December 14th from 1–3 PM at the funeral home in What Cheer!\nGet ready for an afternoon full of laughter\, love\, and holiday magic:\n Say cheese with the North Pole dream team — Santa\, Mrs.Claus\, and one jolly elf! (What Cheer Community Club) Even the Grinch can’t resist What Cheer Christmas fun!Come take a silly photo with him! (What Cheer CommunityClub) Come meet the most adorable little skunks on Santa’s nicelist — Vixen and CinnaBunns! (Becky Hoffer) Bring your Christmas cheer and meet the sweetest littledonkey in What Cheer! (Cassie Cooper) It’s not Christmas without a little llama-drama…capture yourChristmas smile. (Alisca Dianne) Digit\, the therapy dog\, will be dressed for the holidays andready for hugs! (Terri Smith) Clip-clop through What Cheer on a wagon ride with SkunkRiver Draft Horses! (Ethan and Abby Bair and Chris andShayla Bair) Climb aboard\, meet our heroes\, and explore a realambulance! (Keokuk County Ambulance Service) Discover the meaning of Christmas and share in the joy!(Hilltop Chapel) Warm up with hot cocoa and cookies\, play a few kids’games\, and enter fun drawings and giveaways throughoutthe event! Don’t miss the Candyman (Eric)—grab your favorite sweettreat…more like TREATS! Finish your festive adventure with a Christmas show at theOpera House! (What Cheer Opera House)\nHolland-Coble Funeral home wants to recognize and thank the What Cheer Fire and Rescue for keeping families safe by controlling traffic and ensuring a secure environment throughout the afternoon. Your efforts help make this celebration possible!\nWe would also like to extend a heartfelt thank you to What Cheer City Council for supporting this event!\n\n Bring your family (old and young)\, your friends\, and your Christmas list — it’s going to be an afternoon filled with memories\, magic\, and What Cheer charm!  \nSee less
URL:https://kcediowa.org/event/hometown-holiday-magic-at-holland-coble-funeral-home/
LOCATION:Holland Coble Funeral Home\, 101 S Barnes St\, What Cheer\, Iowa
END:VEVENT
BEGIN:VEVENT
DTSTART;TZID=America/Chicago:20251214T130000
DTEND;TZID=America/Chicago:20251214T170000
DTSTAMP:20260419T193303
CREATED:20251203T180041Z
LAST-MODIFIED:20251203T180041Z
UID:10000581-1765717200-1765731600@kcediowa.org
SUMMARY:Pitch Tournament
DESCRIPTION:4-point Pitch Sun Dec 14th at 1pm100% payout\, 1st\, 2nd\, 3rd\, and special gift for LAST place$10 per person. Bring your own partner or try to match up with someone at event.
URL:https://kcediowa.org/event/pitch-tournament/
LOCATION:Grant Ranch Grub & Pub\, 121 S Jefferson St\, Sigourney\, Iowa\, 52591
ATTACH;FMTTYPE=image/jpeg:https://kcediowa.org/wp-content/uploads/2025/12/578260006_1469296988530202_4112598926357195312_n.jpg
END:VEVENT
BEGIN:VEVENT
DTSTART;TZID=America/Chicago:20251217T180000
DTEND;TZID=America/Chicago:20251217T190000
DTSTAMP:20260419T193303
CREATED:20251017T143133Z
LAST-MODIFIED:20251203T180601Z
UID:10000549-1765994400-1765998000@kcediowa.org
SUMMARY:Sigourney City Council Meeting
DESCRIPTION:The Sigourney City Council meetings are held on the 1st and 3rd Wednesday of the month at 6 p.m. at the Sigourney City Hall.
URL:https://kcediowa.org/event/sigourney-city-council/2025-12-17/
LOCATION:Sigourney City Hall\, 100 N Main St.\, Sigourney\, Iowa\, 52591
END:VEVENT
END:VCALENDAR